BEGIN:VCALENDAR
VERSION:2.0
PRODID:-//ExpressionEngine Easy iCalendar plugin//NONSGML v1.2//EN
X-WR-TIMEZONE:Australia/Melbourne
BEGIN:VEVENT
UID:2634
LOCATION:Fiona Stanley Hospital\, Education Building\, Seminar Room 1.4
DTSTAMP:20190311T120000
DTSTART:20190311T120000
DTEND:20190311T140000
SUMMARY:Fiona Stanley Hospital - GP careers Information Session
DESCRIPTION:Are you thinking about which medical speciality you would li
 ke to pursue in 2020? Interns\, RMOs and junior doctors at Fi
 ona Stanley Hospital are invited...
END:VEVENT
END:VCALENDAR